BEGIN:VCALENDAR
VERSION:2.0
PRODID:-//RIGHTHERE//CALENDARIZE IT V3.2//EN
BEGIN:VTIMEZONE
TZID:America/Chicago
X-MICROSOFT-CDO-TZID:11
BEGIN:STANDARD
DTSTART:20251102T070000
TZOFFSETFROM:-0500
TZOFFSETTO:-0600
TZNAME:CST
END:STANDARD
BEGIN:DAYLIGHT
DTSTART:20260308T080000
TZOFFSETFROM:-0600
TZOFFSETTO:-0500
TZNAME:CDT
END:DAYLIGHT
BEGIN:STANDARD
DTSTART:20261101T070000
TZOFFSETFROM:-0500
TZOFFSETTO:-0600
TZNAME:CST
END:STANDARD
END:VTIMEZONE
BEGIN:VEVENT
UID:147-events@crossbridgelincoln.org
DTSTART;TZID=America/Chicago:20190702T100000
DTEND;TZID=America/Chicago:20190702T110000
DTSTAMP;TZID=America/Chicago:20190630T175651
SUMMARY:Bible Study
DESCRIPTION:10:00 Am Bible Study
RRULE:FREQ=WEEKLY;INTERVAL=1
EXDATE:20191224T150000Z,20191231T150000Z,20211228T150000Z,20220104T150000Z,
 20221122T150000Z,20221227T150000Z,20230530T150000Z,20230711T150000Z,202307
 18T150000Z,20230801T150000Z
URL:https://crossbridgelincoln.org/events/bible-study/
LOCATION:CrossBridge
END:VEVENT
END:VCALENDAR